BEGIN:VCALENDAR
VERSION:2.0
PRODID:-//Naturführer Pfalz - ECPv6.15.20//NONSGML v1.0//EN
CALSCALE:GREGORIAN
METHOD:PUBLISH
X-ORIGINAL-URL:https://naturfuehrer-pfalz.de
X-WR-CALDESC:Veranstaltungen für Naturführer Pfalz
REFRESH-INTERVAL;VALUE=DURATION:PT1H
X-Robots-Tag:noindex
X-PUBLISHED-TTL:PT1H
BEGIN:VTIMEZONE
TZID:Europe/Berlin
BEGIN:DAYLIGHT
TZOFFSETFROM:+0100
TZOFFSETTO:+0200
TZNAME:CEST
DTSTART:20240331T010000
END:DAYLIGHT
BEGIN:STANDARD
TZOFFSETFROM:+0200
TZOFFSETTO:+0100
TZNAME:CET
DTSTART:20241027T010000
END:STANDARD
BEGIN:DAYLIGHT
TZOFFSETFROM:+0100
TZOFFSETTO:+0200
TZNAME:CEST
DTSTART:20250330T010000
END:DAYLIGHT
BEGIN:STANDARD
TZOFFSETFROM:+0200
TZOFFSETTO:+0100
TZNAME:CET
DTSTART:20251026T010000
END:STANDARD
BEGIN:DAYLIGHT
TZOFFSETFROM:+0100
TZOFFSETTO:+0200
TZNAME:CEST
DTSTART:20260329T010000
END:DAYLIGHT
BEGIN:STANDARD
TZOFFSETFROM:+0200
TZOFFSETTO:+0100
TZNAME:CET
DTSTART:20261025T010000
END:STANDARD
END:VTIMEZONE
BEGIN:VEVENT
DTSTART;TZID=Europe/Berlin:20250103T150000
DTEND;TZID=Europe/Berlin:20250103T190000
DTSTAMP:20260422T113126
CREATED:20241029T142313Z
LAST-MODIFIED:20241029T142526Z
UID:3698-1735916400-1735930800@naturfuehrer-pfalz.de
SUMMARY:Zauber der Rauhnächte
DESCRIPTION:Termin: Freitag\, 03. Januar 2025 \n\n\n\nZauber der Rauhnächte \n\n\n\nEine musikalisch – lyrische Reise durch den Winterwald \n\n\n\nWenn das alte Jahr sich dem Ende zuneigt und ein neues Jahr bevorsteht\, dann ist die Zeit der Rauhnächte gekommen. Eine magische Zeit\, sich zu besinnen\, zu reflektieren und vorauszuschauen. \n\n\n\nUnsere Reise führt uns durch den winterlichen Wald an atmosphärische Orte und wird auf der Gitarre begleitet mit Liedern aus dem Rauhnacht-Zyklus von und mit Martin Reichenbach. Stimmungsvolle Geschichten\, Märchen und Gedichte\, Anleitungen für Rituale und Meditationen\, aber auch Raum für die stille Wahrnehmung des uns umgebenden Waldes sollen den Nachmittag zu einer Auszeit und Inspiration werden lassen. \n\n\n\nDen Abschluss bildet ein Ausklang am offenen Feuer mit Gitarrenklängen und einem heißen Getränk und Gebäck. \n\n\n\nDie Rauhnacht-Reise eignet sich besonders für diejenigen\, die den thematischen Winterspaziergang bereits kennen und sich nun musikalisch-lyrisch von Michaela Stöhr und Martin Reichenbach zu ein paar zauberhaften Stunden in die Rauhnächte mitnehmen lassen. \n\n\n\nINFOS: \n\n\n\nTreffpunkt um 15:00 Uhr an der Grillhütte Kandel. Dauer ca. 3-4 Stunden. \n\n\n\nUnkostenbeitrag 25 Euro pro Person vor Ort bezahlbar \n\n\n\nMind. 15 TN\, max. 25 TN – Veranstalter: Naturführer Pfalz e.V. \n\n\n\nHunde können leider nicht an der Tour teilnehmen\, ich bitte Sie um Ihr Verständnis. \n\n\n\nWeitere Infos nach Anmeldung bei: \n\n\n\nMichaela Stöhr\, Zertifizierte Natur- und Landschaftsführerin (BANU) \n\n\n\nTelefon: 07275-1069 oder per Mail an: michaela.stoehr@naturfuehrer-pfalz.de
URL:https://naturfuehrer-pfalz.de/veranstaltung/zauber-der-rauhnaechte/
LOCATION:Kandel Grillhütte\, Badallee\, Kandel\, Deutschland
CATEGORIES:Führung
ATTACH;FMTTYPE=image/jpeg:https://naturfuehrer-pfalz.de/wp-content/uploads/2024/10/Zauber-der-Rauhnaechte-03.01.jpg
END:VEVENT
END:VCALENDAR