BEGIN:VCALENDAR
VERSION:2.0
PRODID:-//Naturführer Pfalz - ECPv6.15.20//NONSGML v1.0//EN
CALSCALE:GREGORIAN
METHOD:PUBLISH
X-ORIGINAL-URL:https://naturfuehrer-pfalz.de
X-WR-CALDESC:Veranstaltungen für Naturführer Pfalz
REFRESH-INTERVAL;VALUE=DURATION:PT1H
X-Robots-Tag:noindex
X-PUBLISHED-TTL:PT1H
BEGIN:VTIMEZONE
TZID:Europe/Berlin
BEGIN:DAYLIGHT
TZOFFSETFROM:+0100
TZOFFSETTO:+0200
TZNAME:CEST
DTSTART:20240331T010000
END:DAYLIGHT
BEGIN:STANDARD
TZOFFSETFROM:+0200
TZOFFSETTO:+0100
TZNAME:CET
DTSTART:20241027T010000
END:STANDARD
BEGIN:DAYLIGHT
TZOFFSETFROM:+0100
TZOFFSETTO:+0200
TZNAME:CEST
DTSTART:20250330T010000
END:DAYLIGHT
BEGIN:STANDARD
TZOFFSETFROM:+0200
TZOFFSETTO:+0100
TZNAME:CET
DTSTART:20251026T010000
END:STANDARD
BEGIN:DAYLIGHT
TZOFFSETFROM:+0100
TZOFFSETTO:+0200
TZNAME:CEST
DTSTART:20260329T010000
END:DAYLIGHT
BEGIN:STANDARD
TZOFFSETFROM:+0200
TZOFFSETTO:+0100
TZNAME:CET
DTSTART:20261025T010000
END:STANDARD
END:VTIMEZONE
BEGIN:VEVENT
DTSTART;TZID=Europe/Berlin:20251019T110000
DTEND;TZID=Europe/Berlin:20251019T153000
DTSTAMP:20260423T121059
CREATED:20250304T184628Z
LAST-MODIFIED:20250826T142935Z
UID:3929-1760871600-1760887800@naturfuehrer-pfalz.de
SUMMARY:Wilder Wald am Westwall
DESCRIPTION:Eine Zeitreise entlang des Westwalls und in den Naturwald \n\n\n\n \n\n\n\n\n\n\n\nDie knapp 9 Kilometer lange Tour auf dem kleinen Westwall-Rundweg in Schaidt führt Sie in ca. \n\n\n\n4\,5 Stunden durch einen naturnahen Wald. Mal auf breiten Wegen\, mal auf gewundenen Pfaden\, die sich entlang des Heilbachs schmiegen und durch die geschützte Naturwaldfläche führen. Sie begegnen der uralten Bismarck-Eiche\, die viele Geschichten aus ihrem Leben erzählen kann. \n\n\n\nTief im Wald finden sich aber auch die wenig rühmlichen Relikte und Zeitzeugen des Westwalls\, der einmal die Grenzen Deutschlands schützen sollte. Panzergraben\, Turko-Gräber und Einmann-Bunker lassen bei ihrer Betrachtung Erinnerungen wach werden. \n\n\n\nAuf dieser Wanderung erfahren Sie Wissenswertes und Spannendes über mächtige Eichen\, Buchen und andere heimische Bäume\, den wilden Naturwald\, eine Sanddüne mitten im Wald\, das Naturschutzgroßprojekt Bienwald und über den Sinn oder Unsinn des Westwalls. \n\n\n\nInfos zur Naturführung Der Wald\, sein Mythos und die Geschichte: \n\n\n\nTreffpunkt:                 Parkplatz am Sportplatz\, 76744 Schaidt \n\n\n\nTermin/Dauer:            Sonntag\, 19.10.2025 um 11.00 Uhr/ca. 4\,5 Stunden \n\n\n\nLeitung:                      Heidrun Knoch\, zertifizierte Natur- und Landschaftsführerin \n\n\n\nKosten:                       16\,00 EUR pro Person\, Kinder 7-17 Jahre 9\,00 EUR\, bis 6 Jahre frei \n\n\n\nTeilnehmer:                min. 8/max. 20 Personen \n\n\n\nVeranstalter:              Naturführer Pfalz e. V. \n\n\n\nInfos:                          Aus Rücksicht auf die Teilnehmer sind keine Hunde erlaubt \n\n\n\nTipps:                         Festes Schuhwerk\, Sonnen-\, Regen- und Insektenschutz\, ggf. Getränke \n\n\n\nPDF Download \n\n\n\nBuchung und Bezahlung erfolgt Online hier: \n\n\n\n\nDirekt auf deskline buchen und bezahlen
URL:https://naturfuehrer-pfalz.de/veranstaltung/wilder-wald-am-westwall-3/
CATEGORIES:Führung
ATTACH;FMTTYPE=image/jpeg:https://naturfuehrer-pfalz.de/wp-content/uploads/2025/03/Wilder-Wald-scaled.jpg
END:VEVENT
END:VCALENDAR